BEGIN:VCALENDAR
VERSION:2.0
PRODID:spatie/icalendar-generator
DESCRIPTION:Events from Temple New Jerusalem
X-WR-CALDESC:Events from Temple New Jerusalem
REFRESH-INTERVAL;VALUE=DURATION:PT1440M
X-PUBLISHED-TTL:PT1440M
BEGIN:VTIMEZONE
TZID:America/New_York
BEGIN:STANDARD
DTSTART:20221106T020000Z
TZOFFSETFROM:-0400
TZOFFSETTO:-0500
END:STANDARD
BEGIN:DAYLIGHT
DTSTART:20230312T020000Z
TZOFFSETFROM:-0500
TZOFFSETTO:-0400
END:DAYLIGHT
BEGIN:STANDARD
DTSTART:20231105T020000Z
TZOFFSETFROM:-0400
TZOFFSETTO:-0500
END:STANDARD
END:VTIMEZONE
BEGIN:VTIMEZONE
TZID:UTC
BEGIN:STANDARD
DTSTART:20250727T190617Z
TZOFFSETFROM:+0000
TZOFFSETTO:+0000
END:STANDARD
END:VTIMEZONE
BEGIN:VEVENT
UID:97-39
DTSTAMP:20260423T190617Z
SUMMARY:Beginners Hebrew 8 Week Class
LOCATION:
ORGANIZER;CN=admin:MAILTO:nancy.russell.neaman@gmail.com
DTSTART;TZID=America/New_York:20230617T130000
DTEND;TZID=America/New_York:20230617T134500
X-ALT-DESC;FMTTYPE=TEXT/HTML:Starting Saturday April 15th\, we will meet at
  1:00 pm until 1:45 pm in the multipurpose room.  This eight week class w
 ill be after Oneg every Saturday except the 1st due to Dance Class.   We
  will be using the book \"Learning to Read Biblical Hebrew\" by Jeff A. Be
 nner. Purchase book on Amazon or click&amp;hellip\;
CATEGORIES:Temple New Jerusalem
URL;VALUE=URI:https://templenewjerusalem.org/mc-events/beginners-hebrew-8-w
 eek-class-8/
METHOD:PUBLISH
END:VEVENT
END:VCALENDAR