BEGIN:VCALENDAR
VERSION:2.0
PRODID:spatie/icalendar-generator
DESCRIPTION:Events from Temple New Jerusalem
X-WR-CALDESC:Events from Temple New Jerusalem
REFRESH-INTERVAL;VALUE=DURATION:PT1440M
X-PUBLISHED-TTL:PT1440M
BEGIN:VTIMEZONE
TZID:America/New_York
BEGIN:STANDARD
DTSTART:20221106T020000Z
TZOFFSETFROM:-0400
TZOFFSETTO:-0500
END:STANDARD
BEGIN:DAYLIGHT
DTSTART:20230312T020000Z
TZOFFSETFROM:-0500
TZOFFSETTO:-0400
END:DAYLIGHT
END:VTIMEZONE
BEGIN:VTIMEZONE
TZID:UTC
BEGIN:STANDARD
DTSTART:20250727T194221Z
TZOFFSETFROM:+0000
TZOFFSETTO:+0000
END:STANDARD
END:VTIMEZONE
BEGIN:VEVENT
UID:84-27
DTSTAMP:20260423T194221Z
SUMMARY:Sat. Morning Weekly Shabbat Service
LOCATION:
ORGANIZER;CN=admin:MAILTO:nancy.russell.neaman@gmail.com
DTSTART;TZID=America/New_York:20230225T103000
DTEND;TZID=America/New_York:20230225T113000
X-ALT-DESC;FMTTYPE=TEXT/HTML:TNJ meets every Saturday for Shabbat service. 
 Service begins at 10:30 am. Praise and worship\, Davidic dance\, Shabbat l
 iturgy and Torah service\, and a message from the Rabbi. Oneg with food an
 d drinks and fellowship time\, immediately following service. Shabbat shal
 om!
CATEGORIES:Temple New Jerusalem
URL;VALUE=URI:https://templenewjerusalem.org/mc-events/sat-morning-weekly-s
 habbat-service-3/
METHOD:PUBLISH
END:VEVENT
END:VCALENDAR