BEGIN:VCALENDAR
VERSION:2.0
PRODID:spatie/icalendar-generator
DESCRIPTION:Events from Temple New Jerusalem
X-WR-CALDESC:Events from Temple New Jerusalem
REFRESH-INTERVAL;VALUE=DURATION:PT1440M
X-PUBLISHED-TTL:PT1440M
BEGIN:VTIMEZONE
TZID:America/New_York
BEGIN:STANDARD
DTSTART:20221106T020000Z
TZOFFSETFROM:-0400
TZOFFSETTO:-0500
END:STANDARD
BEGIN:DAYLIGHT
DTSTART:20230312T020000Z
TZOFFSETFROM:-0500
TZOFFSETTO:-0400
END:DAYLIGHT
END:VTIMEZONE
BEGIN:VTIMEZONE
TZID:UTC
BEGIN:STANDARD
DTSTART:20250728T032656Z
TZOFFSETFROM:+0000
TZOFFSETTO:+0000
END:STANDARD
END:VTIMEZONE
BEGIN:VEVENT
UID:43-21
DTSTAMP:20260424T032656Z
SUMMARY:TNJ Annual Passover Seder April 5\, 2023
LOCATION:East Lake Woodlands (Ardea) Country Club 1055 East Lake Woodlands 
 Parkway  Oldsmar Florida 34677 
ORGANIZER;CN=admin:MAILTO:nancy.russell.neaman@gmail.com
DTSTART;TZID=America/New_York:20230405T180000
DTEND;TZID=America/New_York:20230405T220000
X-ALT-DESC;FMTTYPE=TEXT/HTML:Presented and led by: Rabbi Michael Stepakoff
   Reading the Haggadah Remembering the Exodus Delicious\, Kosher for Pass
 over\, four Course Meal Four Cups / 10 Plagues remembered Fun for Kids! Ch
 ildren find the Afikomen Great Music\, Worship\, Davidic Dancing Celebrate
  the victory of the Passover Lamb - Yeshua (Jesus) the Messiah! Time: Wedn
 esday\, April 5\, 2023 at&amp;hellip\;
CATEGORIES:Temple New Jerusalem
URL;VALUE=URI:https://templenewjerusalem.org/mc-events/tnj-annual-passover-
 seder-april-5-2023/
METHOD:PUBLISH
END:VEVENT
END:VCALENDAR