BEGIN:VCALENDAR
VERSION:2.0
PRODID:spatie/icalendar-generator
DESCRIPTION:Events from Temple New Jerusalem
X-WR-CALDESC:Events from Temple New Jerusalem
REFRESH-INTERVAL;VALUE=DURATION:PT1440M
X-PUBLISHED-TTL:PT1440M
BEGIN:VTIMEZONE
TZID:America/New_York
BEGIN:DAYLIGHT
DTSTART:20220313T020000Z
TZOFFSETFROM:-0500
TZOFFSETTO:-0400
END:DAYLIGHT
BEGIN:STANDARD
DTSTART:20221106T020000Z
TZOFFSETFROM:-0400
TZOFFSETTO:-0500
END:STANDARD
BEGIN:DAYLIGHT
DTSTART:20230312T020000Z
TZOFFSETFROM:-0500
TZOFFSETTO:-0400
END:DAYLIGHT
END:VTIMEZONE
BEGIN:VTIMEZONE
TZID:UTC
BEGIN:STANDARD
DTSTART:20250728T002453Z
TZOFFSETFROM:+0000
TZOFFSETTO:+0000
END:STANDARD
END:VTIMEZONE
BEGIN:VEVENT
UID:4-4
DTSTAMP:20260424T002453Z
SUMMARY:Neilah (Close of Yom Kippur) &amp;amp\; Break the Fast 
LOCATION:
ORGANIZER;CN=admin:MAILTO:nancy.russell.neaman@gmail.com
DTSTART;TZID=America/New_York:20221005T170000
DTEND;TZID=America/New_York:20221005T180000
X-ALT-DESC;FMTTYPE=TEXT/HTML:Join us for Ne-ilah\, the Yom Kippur closing s
 ervice\, as we blow the last shofar\, and end Yom Kippur with a short serv
 ice. Immediately followed by FOOD! A delicious the break-the-fast. ALL wel
 come. Sukkah will be built and decorated after the service by all who want
  to volunteer.
CATEGORIES:Temple New Jerusalem
URL;VALUE=URI:https://templenewjerusalem.org/mc-events/neilah-close-of-yom-
 kippur-break-the-fast/
METHOD:PUBLISH
END:VEVENT
END:VCALENDAR