BEGIN:VCALENDAR
VERSION:2.0
PRODID:spatie/icalendar-generator
DESCRIPTION:Events from Temple New Jerusalem
X-WR-CALDESC:Events from Temple New Jerusalem
REFRESH-INTERVAL;VALUE=DURATION:PT1440M
X-PUBLISHED-TTL:PT1440M
BEGIN:VTIMEZONE
TZID:America/New_York
BEGIN:STANDARD
DTSTART:20241103T020000Z
TZOFFSETFROM:-0400
TZOFFSETTO:-0500
END:STANDARD
BEGIN:DAYLIGHT
DTSTART:20250309T020000Z
TZOFFSETFROM:-0500
TZOFFSETTO:-0400
END:DAYLIGHT
BEGIN:STANDARD
DTSTART:20251102T020000Z
TZOFFSETFROM:-0400
TZOFFSETTO:-0500
END:STANDARD
END:VTIMEZONE
BEGIN:VTIMEZONE
TZID:UTC
BEGIN:STANDARD
DTSTART:20250729T110304Z
TZOFFSETFROM:+0000
TZOFFSETTO:+0000
END:STANDARD
END:VTIMEZONE
BEGIN:VEVENT
UID:361-92
DTSTAMP:20260425T110304Z
SUMMARY:NO Davidic Dance Class due to MJAA Messiah Conference 2025
LOCATION:
ORGANIZER;CN=admin:MAILTO:nancy.russell.neaman@gmail.com
DTSTART;TZID=America/New_York:20250705T123000
DTEND;TZID=America/New_York:20250705T131500
X-ALT-DESC;FMTTYPE=TEXT/HTML:No Davidic Dance Class Today due to MJAA Messi
 ah Conference 2025.  See you next week\, Saturday\, July 12th.  Thank Yo
 u!
CATEGORIES:Temple New Jerusalem
URL;VALUE=URI:https://templenewjerusalem.org/mc-events/no-davidic-dance-cla
 ss-due-to-mjaa-messiah-conference-2025/
METHOD:PUBLISH
END:VEVENT
END:VCALENDAR