BEGIN:VCALENDAR
VERSION:2.0
PRODID:spatie/icalendar-generator
DESCRIPTION:Events from Temple New Jerusalem
X-WR-CALDESC:Events from Temple New Jerusalem
REFRESH-INTERVAL;VALUE=DURATION:PT1440M
X-PUBLISHED-TTL:PT1440M
BEGIN:VTIMEZONE
TZID:America/New_York
BEGIN:STANDARD
DTSTART:20241103T020000Z
TZOFFSETFROM:-0400
TZOFFSETTO:-0500
END:STANDARD
BEGIN:DAYLIGHT
DTSTART:20250309T020000Z
TZOFFSETFROM:-0500
TZOFFSETTO:-0400
END:DAYLIGHT
BEGIN:STANDARD
DTSTART:20251102T020000Z
TZOFFSETFROM:-0400
TZOFFSETTO:-0500
END:STANDARD
END:VTIMEZONE
BEGIN:VTIMEZONE
TZID:UTC
BEGIN:STANDARD
DTSTART:20250728T154422Z
TZOFFSETFROM:+0000
TZOFFSETTO:+0000
END:STANDARD
END:VTIMEZONE
BEGIN:VEVENT
UID:344-88
DTSTAMP:20260424T154422Z
SUMMARY:Saturday Shabbat Service / Shavuot Celebration
LOCATION:
ORGANIZER;CN=admin:MAILTO:nancy.russell.neaman@gmail.com
DTSTART;TZID=America/New_York:20250531T103000
DTEND;TZID=America/New_York:20250531T123000
X-ALT-DESC;FMTTYPE=TEXT/HTML:&amp;nbsp\; Come join us for the annual Feast of S
 havuot celebration.  Shavuot\, which means \"Weeks\,\" is also known as \
 "Pentecost.\"  On this day we celebrate the gift of the Torah to Israel a
 t Sinai\, and the gift of the Ruakh which placed the Torah on our hearts b
 eginning with the first followers of Messiah in&amp;hellip\;
CATEGORIES:Temple New Jerusalem
URL;VALUE=URI:https://templenewjerusalem.org/mc-events/saturday-shabbat-ser
 vice-shavuot-celebration-2/
METHOD:PUBLISH
END:VEVENT
END:VCALENDAR