BEGIN:VCALENDAR
VERSION:2.0
PRODID:spatie/icalendar-generator
DESCRIPTION:Events from Temple New Jerusalem
X-WR-CALDESC:Events from Temple New Jerusalem
REFRESH-INTERVAL;VALUE=DURATION:PT1440M
X-PUBLISHED-TTL:PT1440M
BEGIN:VTIMEZONE
TZID:America/New_York
BEGIN:DAYLIGHT
DTSTART:20240310T020000Z
TZOFFSETFROM:-0500
TZOFFSETTO:-0400
END:DAYLIGHT
BEGIN:STANDARD
DTSTART:20241103T020000Z
TZOFFSETFROM:-0400
TZOFFSETTO:-0500
END:STANDARD
BEGIN:DAYLIGHT
DTSTART:20250309T020000Z
TZOFFSETFROM:-0500
TZOFFSETTO:-0400
END:DAYLIGHT
END:VTIMEZONE
BEGIN:VTIMEZONE
TZID:UTC
BEGIN:STANDARD
DTSTART:20250728T122941Z
TZOFFSETFROM:+0000
TZOFFSETTO:+0000
END:STANDARD
END:VTIMEZONE
BEGIN:VEVENT
UID:254-7
DTSTAMP:20260424T122941Z
SUMMARY:EVENT CANCELLED DUE TO HURRICANES HELENE AND MILTON.  SUKKOT - FEAS
 T of TABERNACLES.
LOCATION:Philippe Park 2525 Philippe Pkwy  Safety Harbor  Florida 34695
ORGANIZER;CN=admin:MAILTO:nancy.russell.neaman@gmail.com
DTSTART;TZID=America/New_York:20241020T120000
DTEND;TZID=America/New_York:20241020T150000
X-ALT-DESC;FMTTYPE=TEXT/HTML:EVENT CANCELLED  DUE TO HURRICANES Sukkot Pic
 nic in the Park Sunday\, October 20th
CATEGORIES:Temple New Jerusalem
URL;VALUE=URI:https://templenewjerusalem.org/mc-events/event-cancelled-due-
 to-hurricanes-helene-and-milton-sukkot-feast-of-tabernacles/
METHOD:PUBLISH
END:VEVENT
END:VCALENDAR