BEGIN:VCALENDAR
VERSION:2.0
PRODID:spatie/icalendar-generator
DESCRIPTION:Events from Temple New Jerusalem
X-WR-CALDESC:Events from Temple New Jerusalem
REFRESH-INTERVAL;VALUE=DURATION:PT1440M
X-PUBLISHED-TTL:PT1440M
BEGIN:VTIMEZONE
TZID:America/New_York
BEGIN:STANDARD
DTSTART:20221106T020000Z
TZOFFSETFROM:-0400
TZOFFSETTO:-0500
END:STANDARD
BEGIN:DAYLIGHT
DTSTART:20230312T020000Z
TZOFFSETFROM:-0500
TZOFFSETTO:-0400
END:DAYLIGHT
END:VTIMEZONE
BEGIN:VTIMEZONE
TZID:UTC
BEGIN:STANDARD
DTSTART:20250728T003806Z
TZOFFSETFROM:+0000
TZOFFSETTO:+0000
END:STANDARD
END:VTIMEZONE
BEGIN:VEVENT
UID:24-10
DTSTAMP:20260424T003806Z
SUMMARY:No Sat. Shabbat Service due to MJAA Conference
LOCATION:
ORGANIZER;CN=admin:MAILTO:nancy.russell.neaman@gmail.com
DTSTART;TZID=America/New_York:20221217T103000
DTEND;TZID=America/New_York:20221217T113000
X-ALT-DESC;FMTTYPE=TEXT/HTML:Join us in Orlando\, at the fabulous Rosen Pla
 za Hotel for the annual Southeast Regional Conference of the MJAA. You don
 't want to miss this\, as messianic synagogues from the entire Southeast r
 egion gather in Orlando for our annual conference to celebrate Messiah tog
 ether. You will be inspired\, renewed\, and empowered. For registration\, 
 hotel\, and&amp;hellip\;
CATEGORIES:Temple New Jerusalem
URL;VALUE=URI:https://templenewjerusalem.org/mc-events/no-sat-shabbat-servi
 ce-due-to-mjaa-conference/
METHOD:PUBLISH
END:VEVENT
END:VCALENDAR