BEGIN:VCALENDAR
VERSION:2.0
PRODID:spatie/icalendar-generator
DESCRIPTION:Events from Temple New Jerusalem
X-WR-CALDESC:Events from Temple New Jerusalem
REFRESH-INTERVAL;VALUE=DURATION:PT1440M
X-PUBLISHED-TTL:PT1440M
BEGIN:VTIMEZONE
TZID:America/New_York
BEGIN:DAYLIGHT
DTSTART:20230312T020000Z
TZOFFSETFROM:-0500
TZOFFSETTO:-0400
END:DAYLIGHT
BEGIN:STANDARD
DTSTART:20231105T020000Z
TZOFFSETFROM:-0400
TZOFFSETTO:-0500
END:STANDARD
BEGIN:DAYLIGHT
DTSTART:20240310T020000Z
TZOFFSETFROM:-0500
TZOFFSETTO:-0400
END:DAYLIGHT
END:VTIMEZONE
BEGIN:VTIMEZONE
TZID:UTC
BEGIN:STANDARD
DTSTART:20250730T042824Z
TZOFFSETFROM:+0000
TZOFFSETTO:+0000
END:STANDARD
END:VTIMEZONE
BEGIN:VEVENT
UID:153-50
DTSTAMP:20260426T042824Z
SUMMARY:Erev Yom Kippur - Kol Nidrei
LOCATION:
ORGANIZER;CN=admin:MAILTO:nancy.russell.neaman@gmail.com
DTSTART;TZID=America/New_York:20230924T193000
DTEND;TZID=America/New_York:20230924T211500
X-ALT-DESC;FMTTYPE=TEXT/HTML:ON ROSH HASHANA IT IS WRITTEN\, ON YOM KIPPUR 
 IT IS SEALED... Yom Kippur is also known as the \"Day of Atonement.\" It i
 s the most solemn and holiest day of the entire year. All are welcome to j
 oin us at TNJ as we observe\, remember and celebrate together the atonemen
 t of the Lamb of&amp;hellip\;
CATEGORIES:Holiday,  Temple New Jerusalem
URL;VALUE=URI:https://templenewjerusalem.org/mc-events/erev-yom-kippur-kol-
 nidrei/
METHOD:PUBLISH
END:VEVENT
END:VCALENDAR