BEGIN:VCALENDAR
VERSION:2.0
PRODID:spatie/icalendar-generator
DESCRIPTION:Events from Temple New Jerusalem
X-WR-CALDESC:Events from Temple New Jerusalem
REFRESH-INTERVAL;VALUE=DURATION:PT1440M
X-PUBLISHED-TTL:PT1440M
BEGIN:VTIMEZONE
TZID:America/New_York
BEGIN:STANDARD
DTSTART:20221106T020000Z
TZOFFSETFROM:-0400
TZOFFSETTO:-0500
END:STANDARD
BEGIN:DAYLIGHT
DTSTART:20230312T020000Z
TZOFFSETFROM:-0500
TZOFFSETTO:-0400
END:DAYLIGHT
BEGIN:STANDARD
DTSTART:20231105T020000Z
TZOFFSETFROM:-0400
TZOFFSETTO:-0500
END:STANDARD
END:VTIMEZONE
BEGIN:VTIMEZONE
TZID:UTC
BEGIN:STANDARD
DTSTART:20250727T214920Z
TZOFFSETFROM:+0000
TZOFFSETTO:+0000
END:STANDARD
END:VTIMEZONE
BEGIN:VEVENT
UID:100-42
DTSTAMP:20260423T214920Z
SUMMARY:Davidic Dance Class
LOCATION:
ORGANIZER;CN=admin:MAILTO:nancy.russell.neaman@gmail.com
DTSTART;TZID=America/New_York:20230603T123000
DTEND;TZID=America/New_York:20230603T131500
X-ALT-DESC;FMTTYPE=TEXT/HTML:Dance Class: The 1st Saturday of every month 
 from 12:30 p.m. - 1:15 p.m. Come join us as we learn basic Davidic dance
  steps\, Israeli folk dances\, and enjoy the joy of the Lord through da
 nce. All are welcome.  (please see the TNJ monthly calendar to stay poste
 d on any cancellations or rescheduled dates and times. Thank you.) 
CATEGORIES:Temple New Jerusalem
URL;VALUE=URI:https://templenewjerusalem.org/mc-events/davidic-dance-class-
 8/
METHOD:PUBLISH
END:VEVENT
END:VCALENDAR