BEGIN:VCALENDAR
VERSION:2.0
PRODID:spatie/icalendar-generator
DESCRIPTION:Events from Temple New Jerusalem
X-WR-CALDESC:Events from Temple New Jerusalem
REFRESH-INTERVAL;VALUE=DURATION:PT1440M
X-PUBLISHED-TTL:PT1440M
BEGIN:VTIMEZONE
TZID:America/New_York
BEGIN:STANDARD
DTSTART:20251102T020000Z
TZOFFSETFROM:-0400
TZOFFSETTO:-0500
END:STANDARD
BEGIN:DAYLIGHT
DTSTART:20260308T020000Z
TZOFFSETFROM:-0500
TZOFFSETTO:-0400
END:DAYLIGHT
END:VTIMEZONE
BEGIN:VTIMEZONE
TZID:UTC
BEGIN:STANDARD
DTSTART:20250727T163435Z
TZOFFSETFROM:+0000
TZOFFSETTO:+0000
END:STANDARD
END:VTIMEZONE
BEGIN:VEVENT
UID:452-84
DTSTAMP:20260423T163435Z
SUMMARY:TNJ Annual Passover Seder Wednesday\, April 1\, 2026 - Tickets are 
 sold out!  See you at Shabbat Service. Thank you!
LOCATION:East Lake Woodlands (Ardea) Country Club 1055 East Lake Woodlands 
 Parkway  Oldsmar Florida 34677 
ORGANIZER;CN=admin:MAILTO:nancy.russell.neaman@gmail.com
DTSTART;TZID=America/New_York:20260401T180000
DTEND;TZID=America/New_York:20260401T220000
X-ALT-DESC;FMTTYPE=TEXT/HTML:TICKETS ARE SOLD OUT!  SEE YOU AT SHABBAT SER
 VICE.  THANK YOU! Presented and led by: Rabbi Michael Stepakoff  Reading
  the Haggadah Remembering the Exodus Delicious\, Kosher for Passover\, fou
 r Course Meal Four Cups / 10 Plagues remembered Fun for Kids! Children fin
 d the Afikomen Great Music\, Worship\, Davidic Dancing Celebrate the victo
 ry of the Passover&amp;hellip\;
CATEGORIES:Temple New Jerusalem
URL;VALUE=URI:https://templenewjerusalem.org/mc-events/tnj-annual-passover-
 seder-wednesday-april-1-2026-tickets-are-sold-out-see-you-at-shabbat-servi
 ce-thank-you/
METHOD:PUBLISH
END:VEVENT
END:VCALENDAR