BEGIN:VCALENDAR
VERSION:2.0
PRODID:spatie/icalendar-generator
DESCRIPTION:Events from Temple New Jerusalem
X-WR-CALDESC:Events from Temple New Jerusalem
REFRESH-INTERVAL;VALUE=DURATION:PT1440M
X-PUBLISHED-TTL:PT1440M
BEGIN:VTIMEZONE
TZID:America/New_York
BEGIN:STANDARD
DTSTART:20251102T020000Z
TZOFFSETFROM:-0400
TZOFFSETTO:-0500
END:STANDARD
BEGIN:DAYLIGHT
DTSTART:20260308T020000Z
TZOFFSETFROM:-0500
TZOFFSETTO:-0400
END:DAYLIGHT
END:VTIMEZONE
BEGIN:VTIMEZONE
TZID:UTC
BEGIN:STANDARD
DTSTART:20250727T225450Z
TZOFFSETFROM:+0000
TZOFFSETTO:+0000
END:STANDARD
END:VTIMEZONE
BEGIN:VEVENT
UID:451-103
DTSTAMP:20260423T225450Z
SUMMARY:Online Women's Bible Study \"The Tabernacle\"
LOCATION:
ORGANIZER;CN=admin:MAILTO:nancy.russell.neaman@gmail.com
RRULE:FREQ=WEEKLY;UNTIL=20260311T000000Z
DTSTART;TZID=America/New_York:20260311T190000
DTEND;TZID=America/New_York:20260311T203000
X-ALT-DESC;FMTTYPE=TEXT/HTML:&amp;nbsp\; This is an online woman's Bible study 
 via Google meet.  Please email us at info@TempleNJ.org or call the office
  at 727-900-1756 to get the Google Meet link to the class. Here is the lin
 k to purchase the book: The Tabernacle - Rose Visual Bible Study: 97816286
 27527 - Christianbook.com https://share.google/TJ3lxCcsp8f73BVHV
CATEGORIES:Temple New Jerusalem
URL;VALUE=URI:https://templenewjerusalem.org/mc-events/online-womens-bible-
 study-the-tabernacle/?mc_id=451
METHOD:PUBLISH
END:VEVENT
END:VCALENDAR