BEGIN:VCALENDAR
VERSION:2.0
PRODID:spatie/icalendar-generator
DESCRIPTION:Events from Temple New Jerusalem
X-WR-CALDESC:Events from Temple New Jerusalem
REFRESH-INTERVAL;VALUE=DURATION:PT1440M
X-PUBLISHED-TTL:PT1440M
BEGIN:VTIMEZONE
TZID:America/New_York
BEGIN:STANDARD
DTSTART:20241103T020000Z
TZOFFSETFROM:-0400
TZOFFSETTO:-0500
END:STANDARD
BEGIN:DAYLIGHT
DTSTART:20250309T020000Z
TZOFFSETFROM:-0500
TZOFFSETTO:-0400
END:DAYLIGHT
END:VTIMEZONE
BEGIN:VTIMEZONE
TZID:UTC
BEGIN:STANDARD
DTSTART:20250727T205546Z
TZOFFSETFROM:+0000
TZOFFSETTO:+0000
END:STANDARD
END:VTIMEZONE
BEGIN:VEVENT
UID:362-85
DTSTAMP:20260423T205546Z
SUMMARY:Davidic Dance Class
LOCATION:Temple New Jerusalem 550 E. Tarpon Avenue  Tarpon Springs Florida 
 34689
ORGANIZER;CN=admin:MAILTO:nancy.russell.neaman@gmail.com
RRULE:FREQ=MONTHLY;BYDAY=1SA;UNTIL=20260207T000000Z
DTSTART;TZID=America/New_York:20250301T130000
DTEND;TZID=America/New_York:20250301T134500
X-ALT-DESC;FMTTYPE=TEXT/HTML:Dance Class: The 1st Saturday of every month f
 rom 1:00 p.m. - 1:45 p.m. Come join us as we learn basic Davidic dance 
 steps\, Israeli folk dances\, and enjoy the joy of the Lord through danc
 e. All are welcome.  (please see the TNJ monthly calendar to stay posted
  on any cancellations or rescheduled dates and times. Thank you.) 
CATEGORIES:Temple New Jerusalem
URL;VALUE=URI:https://templenewjerusalem.org/mc-events/davidic-dance-class-
 12/?mc_id=362
METHOD:PUBLISH
END:VEVENT
END:VCALENDAR