BEGIN:VCALENDAR
VERSION:2.0
PRODID:spatie/icalendar-generator
DESCRIPTION:Events from Temple New Jerusalem
X-WR-CALDESC:Events from Temple New Jerusalem
REFRESH-INTERVAL;VALUE=DURATION:PT1440M
X-PUBLISHED-TTL:PT1440M
BEGIN:VTIMEZONE
TZID:America/New_York
BEGIN:STANDARD
DTSTART:20241103T020000Z
TZOFFSETFROM:-0400
TZOFFSETTO:-0500
END:STANDARD
BEGIN:DAYLIGHT
DTSTART:20250309T020000Z
TZOFFSETFROM:-0500
TZOFFSETTO:-0400
END:DAYLIGHT
BEGIN:STANDARD
DTSTART:20251102T020000Z
TZOFFSETFROM:-0400
TZOFFSETTO:-0500
END:STANDARD
END:VTIMEZONE
BEGIN:VTIMEZONE
TZID:UTC
BEGIN:STANDARD
DTSTART:20250728T084508Z
TZOFFSETFROM:+0000
TZOFFSETTO:+0000
END:STANDARD
END:VTIMEZONE
BEGIN:VEVENT
UID:323-86
DTSTAMP:20260424T084508Z
SUMMARY:Online Women's Bible Study \"Brave and Beloved\"
LOCATION:
ORGANIZER;CN=admin:MAILTO:nancy.russell.neaman@gmail.com
RRULE:FREQ=WEEKLY;UNTIL=20251001T000000Z
DTSTART;TZID=America/New_York:20250521T190000
DTEND;TZID=America/New_York:20250521T203000
X-ALT-DESC;FMTTYPE=TEXT/HTML:This is an online woman's Bible study via Goog
 le meet.  Please email us at info@TempleNJ.org or call the office at 727-
 900-1756 to get the Google Meet link to the class.  Thank You! You can si
 gn up using the link: https://forms.gle/9DegafNmw7m9Zv5H8 Books are availa
 ble at our Saturday services when in stock. If you don’t attend TNJ&amp;hell
 ip\;
CATEGORIES:Temple New Jerusalem
URL;VALUE=URI:https://templenewjerusalem.org/mc-events/online-womens-bible-
 study-brave-and-beloved/?mc_id=323
METHOD:PUBLISH
END:VEVENT
END:VCALENDAR