BEGIN:VCALENDAR
VERSION:2.0
PRODID:spatie/icalendar-generator
DESCRIPTION:Events from Temple New Jerusalem
X-WR-CALDESC:Events from Temple New Jerusalem
REFRESH-INTERVAL;VALUE=DURATION:PT1440M
X-PUBLISHED-TTL:PT1440M
BEGIN:VTIMEZONE
TZID:America/New_York
BEGIN:STANDARD
DTSTART:20241103T020000Z
TZOFFSETFROM:-0400
TZOFFSETTO:-0500
END:STANDARD
BEGIN:DAYLIGHT
DTSTART:20250309T020000Z
TZOFFSETFROM:-0500
TZOFFSETTO:-0400
END:DAYLIGHT
END:VTIMEZONE
BEGIN:VTIMEZONE
TZID:UTC
BEGIN:STANDARD
DTSTART:20250727T193505Z
TZOFFSETFROM:+0000
TZOFFSETTO:+0000
END:STANDARD
END:VTIMEZONE
BEGIN:VEVENT
UID:298-83
DTSTAMP:20260423T193505Z
SUMMARY:Celebrate Purim! and Shabbat Service
LOCATION:Temple New Jerusalem 550 E. Tarpon Avenue  Tarpon Springs Florida 
 34689
ORGANIZER;CN=admin:MAILTO:nancy.russell.neaman@gmail.com
DTSTART;TZID=America/New_York:20250315T103000
DTEND;TZID=America/New_York:20250315T133000
X-ALT-DESC;FMTTYPE=TEXT/HTML:TNJ meets every Saturday for Shabbat service. 
 Service begins at 10:30 am. Join us at TNJ to celebrate Purim! In addition
  to the regular Shabbat worship and praise\, we will have a Purim play ins
 tead of reading the Megillah\, followed by a message from Rabbi Mike. Afte
 r the service\, the Purim celebration will be great&amp;hellip\;
CATEGORIES:Temple New Jerusalem
URL;VALUE=URI:https://templenewjerusalem.org/mc-events/celebrate-purim-and-
 shabbat-service-3/
METHOD:PUBLISH
END:VEVENT
END:VCALENDAR