BEGIN:VCALENDAR
VERSION:2.0
PRODID:spatie/icalendar-generator
DESCRIPTION:Events from Temple New Jerusalem
X-WR-CALDESC:Events from Temple New Jerusalem
REFRESH-INTERVAL;VALUE=DURATION:PT1440M
X-PUBLISHED-TTL:PT1440M
BEGIN:VTIMEZONE
TZID:America/New_York
BEGIN:STANDARD
DTSTART:20241103T020000Z
TZOFFSETFROM:-0400
TZOFFSETTO:-0500
END:STANDARD
BEGIN:DAYLIGHT
DTSTART:20250309T020000Z
TZOFFSETFROM:-0500
TZOFFSETTO:-0400
END:DAYLIGHT
END:VTIMEZONE
BEGIN:VTIMEZONE
TZID:UTC
BEGIN:STANDARD
DTSTART:20250727T221741Z
TZOFFSETFROM:+0000
TZOFFSETTO:+0000
END:STANDARD
END:VTIMEZONE
BEGIN:VEVENT
UID:297-82
DTSTAMP:20260423T221741Z
SUMMARY:Saturday Shabbat Service /Hanukkah Celebration
LOCATION:Temple New Jerusalem 550 E. Tarpon Avenue  Tarpon Springs Florida 
 34689
ORGANIZER;CN=admin:MAILTO:nancy.russell.neaman@gmail.com
DTSTART;TZID=America/New_York:20241228T103000
DTEND;TZID=America/New_York:20241228T140000
X-ALT-DESC;FMTTYPE=TEXT/HTML:Celebrate the Festival of Lights\, Hanukkah wi
 th us at TNJ.  The Shabbat service will start at 10:30 AM with traditiona
 l prayers\, Davidic dance and followed by a timely message by the Rabbi. 
  Following the service\, the Hanukkah celebration will begin with music\, 
 fellowship\, games\, bagels and cream cheese\, fruit\, latkes and sufganiy
 ah (Jelly donuts). It&amp;hellip\;
CATEGORIES:Temple New Jerusalem
URL;VALUE=URI:https://templenewjerusalem.org/mc-events/saturday-shabbat-ser
 vice-hanukkah-celebration-3/
METHOD:PUBLISH
END:VEVENT
END:VCALENDAR