BEGIN:VCALENDAR
VERSION:2.0
PRODID:spatie/icalendar-generator
DESCRIPTION:Events from Temple New Jerusalem
X-WR-CALDESC:Events from Temple New Jerusalem
REFRESH-INTERVAL;VALUE=DURATION:PT1440M
X-PUBLISHED-TTL:PT1440M
BEGIN:VTIMEZONE
TZID:America/New_York
BEGIN:STANDARD
DTSTART:20241103T020000Z
TZOFFSETFROM:-0400
TZOFFSETTO:-0500
END:STANDARD
BEGIN:DAYLIGHT
DTSTART:20250309T020000Z
TZOFFSETFROM:-0500
TZOFFSETTO:-0400
END:DAYLIGHT
END:VTIMEZONE
BEGIN:VTIMEZONE
TZID:UTC
BEGIN:STANDARD
DTSTART:20250728T010819Z
TZOFFSETFROM:+0000
TZOFFSETTO:+0000
END:STANDARD
END:VTIMEZONE
BEGIN:VEVENT
UID:283-80
DTSTAMP:20260424T010819Z
SUMMARY:MJAA SE CONFERENCE DEC. 20-22nd in Orlando\, FL.
LOCATION:Rosen Plaza Hotel 9700 International Dr\,   Orlando Florida 32819
ORGANIZER;CN=admin:MAILTO:nancy.russell.neaman@gmail.com
DTSTART;TZID=America/New_York;VALUE=DATE:20241220
DTEND;TZID=America/New_York;VALUE=DATE:20241223
X-ALT-DESC;FMTTYPE=TEXT/HTML:
CATEGORIES:Temple New Jerusalem
URL;VALUE=URI:https://templenewjerusalem.org/mc-events/mjaa-se-conference-d
 ec-20-22nd-in-orlando-fl/
METHOD:PUBLISH
END:VEVENT
END:VCALENDAR