BEGIN:VCALENDAR
VERSION:2.0
PRODID:spatie/icalendar-generator
DESCRIPTION:Events from Temple New Jerusalem
X-WR-CALDESC:Events from Temple New Jerusalem
REFRESH-INTERVAL;VALUE=DURATION:PT1440M
X-PUBLISHED-TTL:PT1440M
BEGIN:VTIMEZONE
TZID:America/New_York
BEGIN:DAYLIGHT
DTSTART:20240310T020000Z
TZOFFSETFROM:-0500
TZOFFSETTO:-0400
END:DAYLIGHT
BEGIN:STANDARD
DTSTART:20241103T020000Z
TZOFFSETFROM:-0400
TZOFFSETTO:-0500
END:STANDARD
END:VTIMEZONE
BEGIN:VTIMEZONE
TZID:UTC
BEGIN:STANDARD
DTSTART:20250728T103019Z
TZOFFSETFROM:+0000
TZOFFSETTO:+0000
END:STANDARD
END:VTIMEZONE
BEGIN:VEVENT
UID:257-74
DTSTAMP:20260424T103019Z
SUMMARY:Online Women's Bible Study \"Crown of Beauty\"
LOCATION:
ORGANIZER;CN=admin:MAILTO:nancy.russell.neaman@gmail.com
RRULE:FREQ=WEEKLY;UNTIL=20241120T000000Z
DTSTART;TZID=America/New_York:20240814T190000
DTEND;TZID=America/New_York:20240814T203000
X-ALT-DESC;FMTTYPE=TEXT/HTML:This is an online woman's Bible study via Goog
 le meet.  Please email us at info@TempleNJ.org or call the office at 727-
 900-1756 to get the Google Meet link to the class.  Thank You! Here is an
  Amazon link to purchase the book: https://www.amazon.com/Crown-Beauty-Twe
 lve-Womens-Bible/dp/1484120272
CATEGORIES:Temple New Jerusalem
URL;VALUE=URI:https://templenewjerusalem.org/mc-events/online-womens-bible-
 study-crown-of-beauty/?mc_id=257
METHOD:PUBLISH
END:VEVENT
END:VCALENDAR