BEGIN:VCALENDAR
VERSION:2.0
PRODID:spatie/icalendar-generator
DESCRIPTION:Events from Temple New Jerusalem
X-WR-CALDESC:Events from Temple New Jerusalem
REFRESH-INTERVAL;VALUE=DURATION:PT1440M
X-PUBLISHED-TTL:PT1440M
BEGIN:VTIMEZONE
TZID:America/New_York
BEGIN:DAYLIGHT
DTSTART:20240310T020000Z
TZOFFSETFROM:-0500
TZOFFSETTO:-0400
END:DAYLIGHT
BEGIN:STANDARD
DTSTART:20241103T020000Z
TZOFFSETFROM:-0400
TZOFFSETTO:-0500
END:STANDARD
BEGIN:DAYLIGHT
DTSTART:20250309T020000Z
TZOFFSETFROM:-0500
TZOFFSETTO:-0400
END:DAYLIGHT
END:VTIMEZONE
BEGIN:VTIMEZONE
TZID:UTC
BEGIN:STANDARD
DTSTART:20250729T131149Z
TZOFFSETFROM:+0000
TZOFFSETTO:+0000
END:STANDARD
END:VTIMEZONE
BEGIN:VEVENT
UID:253-2
DTSTAMP:20260425T131149Z
SUMMARY:Erev Rosh Hashanah
LOCATION:Temple New Jerusalem 550 E. Tarpon Avenue  Tarpon Springs Florida 
 34689
ORGANIZER;CN=admin:MAILTO:nancy.russell.neaman@gmail.com
DTSTART;TZID=America/New_York:20241002T193000
DTEND;TZID=America/New_York:20241002T211500
X-ALT-DESC;FMTTYPE=TEXT/HTML:May you be written for a sweet new year! ALL a
 re welcome to join us for Rosh HaShana (New Year or Feast of Trumpets) ser
 vice.  This is the beginning of the High Holy Day season.  Blow the shof
 ar in Zion\, and in all the earth\, for the day of the Lord is at hand! Tr
 aditional\,&amp;hellip\;
CATEGORIES:Temple New Jerusalem
URL;VALUE=URI:https://templenewjerusalem.org/mc-events/erev-rosh-hashanah/
METHOD:PUBLISH
END:VEVENT
END:VCALENDAR