BEGIN:VCALENDAR
VERSION:2.0
PRODID:spatie/icalendar-generator
DESCRIPTION:Events from Temple New Jerusalem
X-WR-CALDESC:Events from Temple New Jerusalem
REFRESH-INTERVAL;VALUE=DURATION:PT1440M
X-PUBLISHED-TTL:PT1440M
BEGIN:VTIMEZONE
TZID:America/New_York
BEGIN:STANDARD
DTSTART:20231105T020000Z
TZOFFSETFROM:-0400
TZOFFSETTO:-0500
END:STANDARD
BEGIN:DAYLIGHT
DTSTART:20240310T020000Z
TZOFFSETFROM:-0500
TZOFFSETTO:-0400
END:DAYLIGHT
BEGIN:STANDARD
DTSTART:20241103T020000Z
TZOFFSETFROM:-0400
TZOFFSETTO:-0500
END:STANDARD
END:VTIMEZONE
BEGIN:VTIMEZONE
TZID:UTC
BEGIN:STANDARD
DTSTART:20250728T162452Z
TZOFFSETFROM:+0000
TZOFFSETTO:+0000
END:STANDARD
END:VTIMEZONE
BEGIN:VEVENT
UID:239-72
DTSTAMP:20260424T162452Z
SUMMARY:No Sat. Shabbat Service due to MJAA Messiah Conference
LOCATION:
ORGANIZER;CN=admin:MAILTO:nancy.russell.neaman@gmail.com
DTSTART;TZID=America/New_York:20240706T103000
DTEND;TZID=America/New_York:20240706T113000
X-ALT-DESC;FMTTYPE=TEXT/HTML:Just a reminder there is NO SHABBAT service 
 this weekend\, July 6th due to the MJAA National conference at Messiah Col
 lege in PA. Looking forward to see all at next Shabbat service\, on Sat.\,
  July 13th. Messiah Conference is June 30th to July 6th. Great worship lea
 ders\, including Paul Wilbur\, Joshua Aaron\, anointed speakers\, and fami
 ly fun.&amp;hellip\;
CATEGORIES:Temple New Jerusalem
URL;VALUE=URI:https://templenewjerusalem.org/mc-events/no-sat-shabbat-servi
 ce-due-to-mjaa-messiah-conference/
METHOD:PUBLISH
END:VEVENT
END:VCALENDAR