BEGIN:VCALENDAR
VERSION:2.0
PRODID:spatie/icalendar-generator
DESCRIPTION:Events from Temple New Jerusalem
X-WR-CALDESC:Events from Temple New Jerusalem
REFRESH-INTERVAL;VALUE=DURATION:PT1440M
X-PUBLISHED-TTL:PT1440M
BEGIN:VTIMEZONE
TZID:America/New_York
BEGIN:STANDARD
DTSTART:20231105T020000Z
TZOFFSETFROM:-0400
TZOFFSETTO:-0500
END:STANDARD
BEGIN:DAYLIGHT
DTSTART:20240310T020000Z
TZOFFSETFROM:-0500
TZOFFSETTO:-0400
END:DAYLIGHT
BEGIN:STANDARD
DTSTART:20241103T020000Z
TZOFFSETFROM:-0400
TZOFFSETTO:-0500
END:STANDARD
END:VTIMEZONE
BEGIN:VTIMEZONE
TZID:UTC
BEGIN:STANDARD
DTSTART:20250728T204757Z
TZOFFSETFROM:+0000
TZOFFSETTO:+0000
END:STANDARD
END:VTIMEZONE
BEGIN:VEVENT
UID:226-68
DTSTAMP:20260424T204757Z
SUMMARY:Father's Day 2024 - Saturday\, June 15th
LOCATION:Temple New Jerusalem 550 E. Tarpon Avenue  Tarpon Springs Florida 
 34689
ORGANIZER;CN=admin:MAILTO:nancy.russell.neaman@gmail.com
DTSTART;TZID=America/New_York:20240615T103000
DTEND;TZID=America/New_York:20240615T113000
X-ALT-DESC;FMTTYPE=TEXT/HTML:&amp;nbsp\; Honoring Dads\, Grandpas\, Uncles\, et
 c. for Father's Day. Enjoy your gift from TNJ! &amp;nbsp\;
CATEGORIES:Temple New Jerusalem
URL;VALUE=URI:https://templenewjerusalem.org/mc-events/fathers-day-2024-sat
 urday-june-15th/
METHOD:PUBLISH
END:VEVENT
END:VCALENDAR