BEGIN:VCALENDAR
VERSION:2.0
PRODID:spatie/icalendar-generator
DESCRIPTION:Events from Temple New Jerusalem
X-WR-CALDESC:Events from Temple New Jerusalem
REFRESH-INTERVAL;VALUE=DURATION:PT1440M
X-PUBLISHED-TTL:PT1440M
BEGIN:VTIMEZONE
TZID:America/New_York
BEGIN:STANDARD
DTSTART:20231105T020000Z
TZOFFSETFROM:-0400
TZOFFSETTO:-0500
END:STANDARD
BEGIN:DAYLIGHT
DTSTART:20240310T020000Z
TZOFFSETFROM:-0500
TZOFFSETTO:-0400
END:DAYLIGHT
BEGIN:STANDARD
DTSTART:20241103T020000Z
TZOFFSETFROM:-0400
TZOFFSETTO:-0500
END:STANDARD
END:VTIMEZONE
BEGIN:VTIMEZONE
TZID:UTC
BEGIN:STANDARD
DTSTART:20250728T220807Z
TZOFFSETFROM:+0000
TZOFFSETTO:+0000
END:STANDARD
END:VTIMEZONE
BEGIN:VEVENT
UID:223-67
DTSTAMP:20260424T220807Z
SUMMARY:Mother's Day 2024
LOCATION:Temple New Jerusalem 550 E. Tarpon Avenue  Tarpon Springs Florida 
 34689
ORGANIZER;CN=admin:MAILTO:nancy.russell.neaman@gmail.com
DTSTART;TZID=America/New_York:20240511T103000
DTEND;TZID=America/New_York:20240511T113000
X-ALT-DESC;FMTTYPE=TEXT/HTML:Join us on May 11th to celebrate Mother's Day 
 with heartfelt gestures and special gifts. &amp;nbsp\; An accomplished woman 
 who can find? Her value is far beyond rubies. Her husband’s heart trusts
  in her\, and he lacks nothing valuable. She brings him good and not harm 
 all the days of her life. She selects wool and&amp;hellip\;
CATEGORIES:Temple New Jerusalem
URL;VALUE=URI:https://templenewjerusalem.org/mc-events/mothers-day-2024/
METHOD:PUBLISH
END:VEVENT
END:VCALENDAR