BEGIN:VCALENDAR
VERSION:2.0
PRODID:spatie/icalendar-generator
DESCRIPTION:Events from Temple New Jerusalem
X-WR-CALDESC:Events from Temple New Jerusalem
REFRESH-INTERVAL;VALUE=DURATION:PT1440M
X-PUBLISHED-TTL:PT1440M
BEGIN:VTIMEZONE
TZID:America/New_York
BEGIN:DAYLIGHT
DTSTART:20220313T020000Z
TZOFFSETFROM:-0500
TZOFFSETTO:-0400
END:DAYLIGHT
BEGIN:STANDARD
DTSTART:20221106T020000Z
TZOFFSETFROM:-0400
TZOFFSETTO:-0500
END:STANDARD
BEGIN:DAYLIGHT
DTSTART:20230312T020000Z
TZOFFSETFROM:-0500
TZOFFSETTO:-0400
END:DAYLIGHT
END:VTIMEZONE
BEGIN:VTIMEZONE
TZID:UTC
BEGIN:STANDARD
DTSTART:20250727T211023Z
TZOFFSETFROM:+0000
TZOFFSETTO:+0000
END:STANDARD
END:VTIMEZONE
BEGIN:VEVENT
UID:20-5
DTSTAMP:20260423T211023Z
SUMMARY:Celebration of Life for Stuart Minsky
LOCATION:
ORGANIZER;CN=admin:MAILTO:nancy.russell.neaman@gmail.com
DTSTART;TZID=America/New_York:20220918T140000
DTEND;TZID=America/New_York:20220918T160000
X-ALT-DESC;FMTTYPE=TEXT/HTML:On Sunday\, 8/6/2022\, our dear brother and fr
 iend Stuart Minsky went on to be with the Lord.  A Celebration of Life se
 rvice will be held here at Temple New Jerusalem on Sunday\, 9/18/2022 at 2
 :00 p.m. to 4:00 p.m.   All who knew Stuart are welcome to attend.
CATEGORIES:Temple New Jerusalem
URL;VALUE=URI:https://templenewjerusalem.org/mc-events/celebration-of-life-
 for-stuart-minsky/
METHOD:PUBLISH
END:VEVENT
END:VCALENDAR