BEGIN:VCALENDAR
VERSION:2.0
PRODID:spatie/icalendar-generator
DESCRIPTION:Events from Temple New Jerusalem
X-WR-CALDESC:Events from Temple New Jerusalem
REFRESH-INTERVAL;VALUE=DURATION:PT1440M
X-PUBLISHED-TTL:PT1440M
BEGIN:VTIMEZONE
TZID:America/New_York
BEGIN:DAYLIGHT
DTSTART:20230312T020000Z
TZOFFSETFROM:-0500
TZOFFSETTO:-0400
END:DAYLIGHT
BEGIN:STANDARD
DTSTART:20231105T020000Z
TZOFFSETFROM:-0400
TZOFFSETTO:-0500
END:STANDARD
BEGIN:DAYLIGHT
DTSTART:20240310T020000Z
TZOFFSETFROM:-0500
TZOFFSETTO:-0400
END:DAYLIGHT
END:VTIMEZONE
BEGIN:VTIMEZONE
TZID:UTC
BEGIN:STANDARD
DTSTART:20250730T043019Z
TZOFFSETFROM:+0000
TZOFFSETTO:+0000
END:STANDARD
END:VTIMEZONE
BEGIN:VEVENT
UID:155-51
DTSTAMP:20260426T043019Z
SUMMARY:Yom Kippur
LOCATION:
ORGANIZER;CN=admin:MAILTO:nancy.russell.neaman@gmail.com
DTSTART;TZID=America/New_York:20230925T170000
DTEND;TZID=America/New_York:20230925T180000
X-ALT-DESC;FMTTYPE=TEXT/HTML:Neilah (Close of Yom Kippur) &amp;amp\; Break the 
 Fast  5:00 pm – 6:00 pm September 25\, 2023 Join us for Ne-ilah\, the
  Yom Kippur closing service\, as we blow the last shofar\, and end Yom Kip
 pur with a short service. Immediately followed by FOOD! A delicious break-
 the-fast. ALL welcome. Sukkah will be built and decorated after the&amp;hellip
 \;
CATEGORIES:Holiday,  Temple New Jerusalem
URL;VALUE=URI:https://templenewjerusalem.org/mc-events/yom-kippur/
METHOD:PUBLISH
END:VEVENT
END:VCALENDAR